BEGIN:VCALENDAR
VERSION:2.0
PRODID:-//NYPD Columbia Association - ECPv6.15.18//NONSGML v1.0//EN
CALSCALE:GREGORIAN
METHOD:PUBLISH
X-WR-CALNAME:NYPD Columbia Association
X-ORIGINAL-URL:https://www.nypdcolumbia.org
X-WR-CALDESC:Events for NYPD Columbia Association
REFRESH-INTERVAL;VALUE=DURATION:PT1H
X-Robots-Tag:noindex
X-PUBLISHED-TTL:PT1H
BEGIN:VTIMEZONE
TZID:UTC
BEGIN:STANDARD
TZOFFSETFROM:+0000
TZOFFSETTO:+0000
TZNAME:UTC
DTSTART:20250101T000000
END:STANDARD
END:VTIMEZONE
BEGIN:VEVENT
DTSTART;TZID=UTC:20260420T183000
DTEND;TZID=UTC:20260420T213000
DTSTAMP:20260422T042028
CREATED:20260316T163503Z
LAST-MODIFIED:20260316T163551Z
UID:369-1776709800-1776720600@www.nypdcolumbia.org
SUMMARY:Cigar Night
DESCRIPTION:$165 Per person \nButlered Hors d’Oveuvres\nPremium Open Bar\n3 Premium Cigers \nLive Music\nRaffles and Prizes \nFor More Information & RSVP \nSebastian Bonanno 646-210-9418\nJohn Caruso 929-287-5372\nLauren Moriarty 929-213-1759
URL:https://www.nypdcolumbia.org/event/cigar-night/
LOCATION:The Carnegie Club\, 156 W 56th Street\, Manhattan
ATTACH;FMTTYPE=image/webp:https://www.nypdcolumbia.org/wp-content/uploads/2026/03/cigar-night.webp
END:VEVENT
END:VCALENDAR